BEGIN:VCALENDAR
VERSION:2.0
PRODID:-//Ehrenfelder Bildungs- und Kulturverein e.V. - ECPv6.15.20//NONSGML v1.0//EN
CALSCALE:GREGORIAN
METHOD:PUBLISH
X-ORIGINAL-URL:https://ebkv.de
X-WR-CALDESC:Veranstaltungen für Ehrenfelder Bildungs- und Kulturverein e.V.
REFRESH-INTERVAL;VALUE=DURATION:PT1H
X-Robots-Tag:noindex
X-PUBLISHED-TTL:PT1H
BEGIN:VTIMEZONE
TZID:UTC
BEGIN:STANDARD
TZOFFSETFROM:+0000
TZOFFSETTO:+0000
TZNAME:UTC
DTSTART:20230101T000000
END:STANDARD
END:VTIMEZONE
BEGIN:VEVENT
DTSTART;VALUE=DATE:20240311
DTEND;VALUE=DATE:20240410
DTSTAMP:20260420T063745
CREATED:20240229T120724Z
LAST-MODIFIED:20240229T123745Z
UID:259-1710115200-1712707199@ebkv.de
SUMMARY:Beginn der heiligen Monat Ramadan 1445/2024
DESCRIPTION:In der Ehrenfeld-Moschee und Studentenwohnheim wird unseren Koranschülern im Monat Ramadan mit den Beiträgen unserer geschätzten Brüder und Schwestern täglich Iftar serviert.\nWenn Sie möchten\, dass wir in Ihrem Namen diesen Schülern auch Iftar zur Verfügung stellen\, wenden Sie sich bitte an die Verantwortlichen in unserem Gemeinde. \nMöge Hz. Allah Ihre guten Taten annehmen.
URL:https://ebkv.de/event/heilige-monat-ramadan-1445-2024/
LOCATION:EBKV eV\, Vogelsanger Str. 290\, Köln\, NRW\, 50825\, Deutschland
END:VEVENT
END:VCALENDAR